BEGIN:VCALENDAR
VERSION:2.0
PRODID:-//Been Sacks - ECPv6.15.20//NONSGML v1.0//EN
CALSCALE:GREGORIAN
METHOD:PUBLISH
X-WR-CALNAME:Been Sacks
X-ORIGINAL-URL:https://beensacks.co.uk
X-WR-CALDESC:Events for Been Sacks
REFRESH-INTERVAL;VALUE=DURATION:PT1H
X-Robots-Tag:noindex
X-PUBLISHED-TTL:PT1H
BEGIN:VTIMEZONE
TZID:Europe/London
BEGIN:DAYLIGHT
TZOFFSETFROM:+0000
TZOFFSETTO:+0100
TZNAME:BST
DTSTART:20250330T010000
END:DAYLIGHT
BEGIN:STANDARD
TZOFFSETFROM:+0100
TZOFFSETTO:+0000
TZNAME:GMT
DTSTART:20251026T010000
END:STANDARD
BEGIN:DAYLIGHT
TZOFFSETFROM:+0000
TZOFFSETTO:+0100
TZNAME:BST
DTSTART:20260329T010000
END:DAYLIGHT
BEGIN:STANDARD
TZOFFSETFROM:+0100
TZOFFSETTO:+0000
TZNAME:GMT
DTSTART:20261025T010000
END:STANDARD
BEGIN:DAYLIGHT
TZOFFSETFROM:+0000
TZOFFSETTO:+0100
TZNAME:BST
DTSTART:20270328T010000
END:DAYLIGHT
BEGIN:STANDARD
TZOFFSETFROM:+0100
TZOFFSETTO:+0000
TZNAME:GMT
DTSTART:20271031T010000
END:STANDARD
END:VTIMEZONE
BEGIN:VEVENT
DTSTART;TZID=Europe/London:20260419T110000
DTEND;TZID=Europe/London:20260419T160000
DTSTAMP:20260419T154810
CREATED:20260415T124221Z
LAST-MODIFIED:20260415T124221Z
UID:1881-1776596400-1776614400@beensacks.co.uk
SUMMARY:Brangwyn Hall Craft and Flea Market
DESCRIPTION:Support small businesses by exploring the Craft & Flea Makers Market- a vibrant gathering of talented local artisans and crafters.\nCraft & Flea brings together the best independent makers\, collectors\, designers\, and creatives from your area.\nSupport small businesses by shopping local at our unique twist on the traditional craft market. With a wide selection of products\, including ceramics\, illustrations\, candles\, jewellery\, vintage collections\, and more\, there’s truly something for everyone on offer!\nBut this isn’t your typical craft fair. We carefully screen all stall applications to ensure only the finest artisan traders are featured. Our events celebrate creativity and craftsmanship\, showcasing only handmade\, hand-designed\, and authentic vintage goods.\nNo two events are the same\, and we are always welcoming new traders who apply to trade with us!\n \n\nTICKETS£3.00 Entry\nUnder 12’s – FREE (no need for a ticket)
URL:https://beensacks.co.uk/market/brangwyn-hall-craft-and-flea-market/
LOCATION:Brangwyn Hall\, Guildhall Rd S\,\, Swansea\, SA1 4PE
ATTACH;FMTTYPE=image/png:https://beensacks.co.uk/wp-content/uploads/2026/04/SWANSEA-INSTA-SIZE.png
END:VEVENT
END:VCALENDAR